BEGIN:VCALENDAR
VERSION:2.0
PRODID:-//Conley Outreach Community Services - ECPv6.15.20//NONSGML v1.0//EN
CALSCALE:GREGORIAN
METHOD:PUBLISH
X-WR-CALNAME:Conley Outreach Community Services
X-ORIGINAL-URL:https://conleyoutreach.org
X-WR-CALDESC:Events for Conley Outreach Community Services
REFRESH-INTERVAL;VALUE=DURATION:PT1H
X-Robots-Tag:noindex
X-PUBLISHED-TTL:PT1H
BEGIN:VTIMEZONE
TZID:America/Chicago
BEGIN:DAYLIGHT
TZOFFSETFROM:-0600
TZOFFSETTO:-0500
TZNAME:CDT
DTSTART:20230312T080000
END:DAYLIGHT
BEGIN:STANDARD
TZOFFSETFROM:-0500
TZOFFSETTO:-0600
TZNAME:CST
DTSTART:20231105T070000
END:STANDARD
BEGIN:DAYLIGHT
TZOFFSETFROM:-0600
TZOFFSETTO:-0500
TZNAME:CDT
DTSTART:20240310T080000
END:DAYLIGHT
BEGIN:STANDARD
TZOFFSETFROM:-0500
TZOFFSETTO:-0600
TZNAME:CST
DTSTART:20241103T070000
END:STANDARD
BEGIN:DAYLIGHT
TZOFFSETFROM:-0600
TZOFFSETTO:-0500
TZNAME:CDT
DTSTART:20250309T080000
END:DAYLIGHT
BEGIN:STANDARD
TZOFFSETFROM:-0500
TZOFFSETTO:-0600
TZNAME:CST
DTSTART:20251102T070000
END:STANDARD
BEGIN:DAYLIGHT
TZOFFSETFROM:-0600
TZOFFSETTO:-0500
TZNAME:CDT
DTSTART:20260308T080000
END:DAYLIGHT
BEGIN:STANDARD
TZOFFSETFROM:-0500
TZOFFSETTO:-0600
TZNAME:CST
DTSTART:20261101T070000
END:STANDARD
END:VTIMEZONE
BEGIN:VEVENT
DTSTART;TZID=America/Chicago:20251103T180000
DTEND;TZID=America/Chicago:20251103T193000
DTSTAMP:20260420T022444
CREATED:20250923T021103Z
LAST-MODIFIED:20251015T160253Z
UID:4006-1762192800-1762198200@conleyoutreach.org
SUMMARY:Reclaiming Your Holidays After Loss
DESCRIPTION:Lora Windsor\, LCSW who specializes in grief counseling presents “Reclaiming Your Holidays After Loss.” \nThis event for grievers is filled with ideas to plan how to experience the holidays your way. These new tools include recommended holiday books\, a holiday planner\, and a remembrance craft. Participants may wish to bring an item that connects them to their loved one for the craft project\, but this is not a requirement. \nREGISTER FOR THIS EVENT
URL:https://conleyoutreach.org/event/reclaiming-your-holidays-after-loss/
LOCATION:Sugar Grove Public Library\, 125 S. Municipal Drive\, Sugar Grove\, IL\, 60554\, United States
ATTACH;FMTTYPE=image/jpeg:https://conleyoutreach.org/wp-content/uploads/2025/09/holidays-after-loss.jpg
END:VEVENT
BEGIN:VEVENT
DTSTART;TZID=America/Chicago:20250927T140000
DTEND;TZID=America/Chicago:20250927T140000
DTSTAMP:20260420T022444
CREATED:20250825T205016Z
LAST-MODIFIED:20250825T205016Z
UID:4002-1758981600-1758981600@conleyoutreach.org
SUMMARY:Cooking Up Comfort Chili Cook Off
DESCRIPTION:Join us for this tasty fundraiser to benefit Conely Outreach Good Grief Day Camp for kids and grief fund! \nChili tasting starts at 2:00pm and ends when the chili runs out. \n$5 to taste a variety of chili and vote for your favorite for the People’s Choice Award. \nChili tasting and contest provided by CASI. \nAll proceeds from this event will help us continue to offer no cost/low cost bereavement services to the community.
URL:https://conleyoutreach.org/event/cooking-up-comfort-chili-cook-off-2/
LOCATION:Kuipers Family Farm\, 1N318 Watson Road\, Maple Park\, IL\, 60151\, United States
ATTACH;FMTTYPE=image/jpeg:https://conleyoutreach.org/wp-content/uploads/2025/08/chili-cookoff-25.jpg
END:VEVENT
BEGIN:VEVENT
DTSTART;TZID=America/Chicago:20250510T110000
DTEND;TZID=America/Chicago:20250510T133000
DTSTAMP:20260420T022444
CREATED:20250313T015859Z
LAST-MODIFIED:20250414T153507Z
UID:3932-1746874800-1746883800@conleyoutreach.org
SUMMARY:Embracing Your Grief with Crystal Energy and  Vibrational Sound Healing
DESCRIPTION:Grief can leave our body and emotions dysregulated. Come explore two healing techniques which can help process the pain of grief and calm us–crystal energy and vibrational sound healing. We will have a presentation by Lora Windsor\, LCSW on the healing powers of crystals and create a crystal bracelet of your own. Later we will relax with a sound healing meditation provided by certified vibrational sound practitioner\, Sandy LaBianco-Brown. During the guided meditation singing bowls will be used to promote relaxation. Singing bowls are metal or crystal and when hit with a mallet provide sustained sounds or vibrations.  \nDuring the event event snacks and materials for the bracelet activity will be provided. We would encourage anyone during the sound meditation to bring a yoga mat or item of comfort. Chairs will be available for those who wish to participate in an upright position.  \nSpecial thank you to J&R Herra Home Services for donating their beautiful space. We also deeply appreciate Lora and Sandy sharing their time and expertise.
URL:https://conleyoutreach.org/event/embracing-your-grief-with-crystal-energy-and-vibrational-sound-healing/
LOCATION:J&R Herra Home Studio\, 1 South Main St.\, Elburn\, 60119\, United States
ATTACH;FMTTYPE=image/jpeg:https://conleyoutreach.org/wp-content/uploads/2025/03/PXL_20250101_205857059.jpg
END:VEVENT
BEGIN:VEVENT
DTSTART;TZID=America/Chicago:20250424T180000
DTEND;TZID=America/Chicago:20250424T193000
DTSTAMP:20260420T022444
CREATED:20241109T170647Z
LAST-MODIFIED:20250313T021424Z
UID:3887-1745517600-1745523000@conleyoutreach.org
SUMMARY:Nourishing Your Heart Cooking and Connecting After Loss
DESCRIPTION:Join Northwestern Medicine Leishman Center staff in collaboration with Conley Outreach Community Services for this 90 minute program on cooking and connecting after the loss of a loved one. Learn about the importance of nourishing yourself with healthy food\, while connecting with others in this uplifting\, hands-on cooking class. Recipes and tasting included. \nRegistration for this event will be open soon. Check back or follow us on Facebook to watch for the link.
URL:https://conleyoutreach.org/event/nourishing-your-heart-cooking-and-connecting-after-loss-0424/
LOCATION:Kishwaukee Hospital\, 1 Kish Hospital Dr.\, DeKalb\, IL\, 60115\, United States
ATTACH;FMTTYPE=image/jpeg:https://conleyoutreach.org/wp-content/uploads/2024/11/cooking-event.jpg
END:VEVENT
BEGIN:VEVENT
DTSTART;TZID=America/Chicago:20250309T150000
DTEND;TZID=America/Chicago:20250309T160000
DTSTAMP:20260420T022444
CREATED:20250212T215531Z
LAST-MODIFIED:20250212T215531Z
UID:3918-1741532400-1741536000@conleyoutreach.org
SUMMARY:Bibliotherapy and Conley Outreach’s Top Ten Grief Books
DESCRIPTION:Lora Windsor\, LCSW\, who specializes in grief counseling\, will present the “Top Ten Grief Books” chosen by Conley Outreach Community Services grief book club (“Yesterday\, Today\, and Tomorrow”)\, and explain the many ways books can help a person process their grief from death loss.
URL:https://conleyoutreach.org/event/bibliotherapy-and-conley-outreachs-top-ten-grief-books/
LOCATION:Sugar Grove Public Library\, 125 S. Municipal Drive\, Sugar Grove\, IL\, 60554\, United States
ATTACH;FMTTYPE=image/jpeg:https://conleyoutreach.org/wp-content/uploads/2025/02/Untitled-design-11.jpg
END:VEVENT
BEGIN:VEVENT
DTSTART;TZID=America/Chicago:20241019T140000
DTEND;TZID=America/Chicago:20241019T140000
DTSTAMP:20260420T022444
CREATED:20240930T171147Z
LAST-MODIFIED:20240930T175902Z
UID:3859-1729346400-1729346400@conleyoutreach.org
SUMMARY:Cooking Up Comfort Chili Cook Off
DESCRIPTION:Join us for this tasty fundraiser to benefit Conely Outreach Good Grief Day Camp for kids and grief fund! \nChili tasting starts at 2:00pm and ends when the chili runs out. \n$5 to taste a variety of chili and vote for your favorite for the People’s Choice Award. \nChili tasting and contest provided by CASI. \nAll proceeds from this event will help us continue to offer no cost/low cost bereavement services to the community.
URL:https://conleyoutreach.org/event/cooking-up-comfort-chili-cook-off/
LOCATION:Kuipers Family Farm\, 1N318 Watson Road\, Maple Park\, IL\, 60151\, United States
ATTACH;FMTTYPE=image/jpeg:https://conleyoutreach.org/wp-content/uploads/2024/09/Cooking-Up-Comfort.jpg
END:VEVENT
BEGIN:VEVENT
DTSTART;TZID=America/Chicago:20241019T084500
DTEND;TZID=America/Chicago:20241019T084500
DTSTAMP:20260420T022444
CREATED:20240930T173552Z
LAST-MODIFIED:20240930T180013Z
UID:3863-1729327500-1729327500@conleyoutreach.org
SUMMARY:Run to Remember 5k
DESCRIPTION:Join the Sugar Grove Park District for the 2024 Run to Remember 5K & Fun Run. In this event’s inaugural year\, the run will be a heartfelt event dedicated to honoring the memory of local inspiration\, Lisa Campise. Lisa was a resident of the Sugar Grove Community and worked as a social worker assisting students who attended Kaneland School District. Outside her professional career she also supported the youth and families in need in our community in many ways. The race will start at Harter Middle School and run along the newly dedicated “Honorary Lisa Campise Way” aka Esker Drive. The event aims to bring the community together; promoting health\, wellness\, and unity. Whether you’re a seasoned runner or looking to enjoy a leisurely walk\, this event offers something for everyone. \nTo encourage participants to support a local charitable program that Lisa was passionate about\, the Sugar Grove Park District  has set the 5K participant fees at cost. In honoring Lisa Campise’s legacy\, they chose Conley Outreach as their charitable partner.  \nFor more information and to register visit https://www.sgparks.org/5k/ \nEvent Details:\n\n     Date: Saturday\, October 19th \n     Location: Harter Middle School \n     Check-in Time: 8:45 A.M.\n     Race Start Time: 10:00 A.M.\n\nRace Information:\n\n     5K Race: The 5K race will take participants through a 3.1 Mile route around Harter Middle School and along Campise Way. This timed race is perfect for competitive runners aiming for a personal best or for those who simply want to complete the course in honor of Lisa.\n     Fun Run: Following the 5K\, join us for a Fun Run. This untimed\, relaxed run/walk is open to all kids under the age of 12\, making it a great opportunity for families and friends to participate together. Costumes\, themed outfits\, and a spirit of fun are highly encouraged!
URL:https://conleyoutreach.org/event/run-to-remember-5k/
LOCATION:IL
ATTACH;FMTTYPE=image/jpeg:https://conleyoutreach.org/wp-content/uploads/2024/09/5k-event.jpg
END:VEVENT
BEGIN:VEVENT
DTSTART;TZID=America/Chicago:20241010T140000
DTEND;TZID=America/Chicago:20241010T153000
DTSTAMP:20260420T022444
CREATED:20240917T020707Z
LAST-MODIFIED:20240917T024826Z
UID:3854-1728568800-1728574200@conleyoutreach.org
SUMMARY:Nourishing Your Heart Cooking and Connecting After Loss
DESCRIPTION:Join Northwestern Medicine Leishman Center staff in collaboration with Conley Outreach Community Services for this 90 minute program on cooking and connecting after the loss of a loved one. Learn about the importance of nourishing yourself with healthy food\, while connecting with others in this uplifting\, hands-on cooking class. Recipes and tasting included. \nAll spots for this event have been filled. Please watch for the next Nourishing Your Heart event coming in February.
URL:https://conleyoutreach.org/event/nourishing-your-heart-cooking-and-connecting-after-loss-101024/
LOCATION:Kishwaukee Hospital\, 1 Kish Hospital Dr.\, DeKalb\, IL\, 60115\, United States
ATTACH;FMTTYPE=image/jpeg:https://conleyoutreach.org/wp-content/uploads/2024/09/cooking-class2.jpg
END:VEVENT
BEGIN:VEVENT
DTSTART;TZID=America/Chicago:20240718T180000
DTEND;TZID=America/Chicago:20240718T193000
DTSTAMP:20260420T022444
CREATED:20240524T172357Z
LAST-MODIFIED:20240607T183758Z
UID:3836-1721325600-1721331000@conleyoutreach.org
SUMMARY:Nourishing Your Heart Cooking and Connecting After Loss
DESCRIPTION:Join Northwestern Medicine Leishman Center staff in collaboration with Conley Outreach Community Services for this 90 minute program on cooking and connecting after the loss of a loved one. Learn about the importance of nourishing yourself with healthy food\, while connecting with others in this uplifting\, hands-on cooking class. Recipes and tasting included. \nREGISTER HERE
URL:https://conleyoutreach.org/event/nourishing-your-heart-cooking-and-connecting-after-loss/
LOCATION:Kishwaukee Hospital\, 1 Kish Hospital Dr.\, DeKalb\, IL\, 60115\, United States
ATTACH;FMTTYPE=image/jpeg:https://conleyoutreach.org/wp-content/uploads/2024/05/cooking-class.jpg
END:VEVENT
BEGIN:VEVENT
DTSTART;TZID=America/Chicago:20240624T090000
DTEND;TZID=America/Chicago:20240628T120000
DTSTAMP:20260420T022444
CREATED:20240224T200103Z
LAST-MODIFIED:20240524T193619Z
UID:3809-1719219600-1719576000@conleyoutreach.org
SUMMARY:Good Grief Day Camp 2024
DESCRIPTION:Good Grief Day Camp is a one-week\, non-residence camp designed specifically for children ages 6-12 who have lost a parent or sibling to death. The camp uses the healing elements of music\, theater\, art and nature to help children on their unique grief journey. It also provides these children the opportunity to spend time with others who have experienced similar losses\, helping them understand that they are not alone in their grief. \nAt Good Grief Day Camp\, our goal is to help children begin the healing process by meeting them wherever they are in their feelings\, offering understanding\, and helping them express their grief experience and feelings.  Registration is limited to 20 children and only to those who have lost a parent or sibling to death. The camp is held each year at Farm Friends/ The McCannon Farm during the last week of June. The cost is $50 per camper/$100 per family. Scholarships are available. \nThis year’s Good Grief Day Camp runs from Monday\, June 24th through Friday\, June 28th\, 9am – 12pm. Contact Jennifer Long at (630) 365-2880 to register.
URL:https://conleyoutreach.org/event/good-grief-day-camp-2024/
LOCATION:IL
ATTACH;FMTTYPE=image/jpeg:https://conleyoutreach.org/wp-content/uploads/2024/02/grief-camp-square.jpg
END:VEVENT
BEGIN:VEVENT
DTSTART;TZID=America/Chicago:20240406T113000
DTEND;TZID=America/Chicago:20240406T133000
DTSTAMP:20260420T022444
CREATED:20240224T181330Z
LAST-MODIFIED:20240524T193653Z
UID:3801-1712403000-1712410200@conleyoutreach.org
SUMMARY:Healing Your Grief: Nature Mandala & Sound Healing Meditation
DESCRIPTION:Join Conley Outreach Community Services at Elburn Lions Park for this free community event focusing on healing your grief through intention and mindfulness. During our time together participants will create their own grief nature mandala and end the session with a relaxing sound healing meditation.  \nMandala is a Sanskrit word that means circle. It is a symbolic representation of the universe\, often used in Hinduism\, Buddhism\, and other cultures as a spiritual and artistic tool. Lora Windsor\, LCSW and Grief Facilitator will provide step by step instruction while participants create their own mandala with items found in nature. The practice will focus on loss and provide tools to integrate grief into our daily intentions to promote healing. Later we will relax with a sound healing meditation provided by Sandy LaBianco-Brown. Sandy is a certified vibrational sound practitioner\, Hypnotherapist\, and Reiki Master Teacher. She currently provides Reiki and Vibrational Sound Therapy at Waterford Place Cancer Resource Center. During this guided meditation singing bowls will be used to promote deeper relaxation. Singing bowls are metal or crystal and when hit with a mallet provide sustained sounds or vibrations.  \nDuring the event snacks and materials for the mandalas will be provided. We encourage anyone who would like to recline during the sound meditation to bring a yoga mat or an item of comfort. Chairs are available for those who would like to participate in an upright position.  \nSpecial thank you to the Elburn Lions Club for donating their space for the event. We also deeply appreciate Lora and Sandy sharing their time and expertise as volunteers.
URL:https://conleyoutreach.org/event/healing-your-grief-nature-mandala-sound-healing-meditation/
LOCATION:Elburn Lions Park\, 500 Filmore St\, Elburn\, IL\, 60119\, United States
ATTACH;FMTTYPE=image/jpeg:https://conleyoutreach.org/wp-content/uploads/2024/02/sound-healing-event.jpg
END:VEVENT
END:VCALENDAR